BEGIN:VCALENDAR
VERSION:2.0
PRODID:-//mimastitan - ECPv6.15.20//NONSGML v1.0//EN
CALSCALE:GREGORIAN
METHOD:PUBLISH
X-ORIGINAL-URL:https://mimastitan.eu
X-WR-CALDESC:Veranstaltungen für mimastitan
REFRESH-INTERVAL;VALUE=DURATION:PT1H
X-Robots-Tag:noindex
X-PUBLISHED-TTL:PT1H
BEGIN:VTIMEZONE
TZID:UTC
BEGIN:STANDARD
TZOFFSETFROM:+0000
TZOFFSETTO:+0000
TZNAME:UTC
DTSTART:20230101T000000
END:STANDARD
END:VTIMEZONE
BEGIN:VEVENT
DTSTART;TZID=UTC:20240427T100000
DTEND;TZID=UTC:20240427T130000
DTSTAMP:20260420T112201
CREATED:20230617T044736Z
LAST-MODIFIED:20230617T050819Z
UID:2266-1714212000-1714222800@mimastitan.eu
SUMMARY:Online-Workshop: Nachhaltigkeit bei Banken und Versicherungen (Nachhaltigkeit im Finanzbereich II)
DESCRIPTION:Auch bei Versicherungen und Banken gibt es ein zunehmend breites nachhaltiges Angebot. Was aber bedeutet Nachhaltigkeit hier konkret? Wie können Banken und Versicherungen unter sozialen und ökologischen Gesichtspunkten bewertet werden\, welche Produkte bieten diese an und was ist daran nachhaltig? \nDer Workshop Nachhaltigkeit bei Banken und Versicherungen soll dazu befähigen\, sich anhand von öffentlich zugänglichen Informationen eine eigene Meinung zu diesen Fragen bilden zu können. Dabei stehen das Mitmachen und Veranschaulichen im Vordergrund. Daneben werden Fachbegriffe erläutert und Fachportale gemeinsam erschlossen. Das Angebot kann sowohl zusammen als auch unabhängig von Nachhaltigkeit bei Geldanlagen (Online-Workshop Nachhaltigkeit im Finanzbereich I)  gebucht werden. \nDie Veranstaltung findet in Kooperation mit der VHS Steglitz-Zehlendorf statt. Zur Anmeldung geht es hier.
URL:https://mimastitan.eu/termine/online-workshop-nachhaltigkeit-bei-banken-und-versicherungen-nachhaltigkeit-im-finanzbereich-ii/
LOCATION:online
END:VEVENT
END:VCALENDAR