BEGIN:VCALENDAR
VERSION:2.0
PRODID:-//mimastitan - ECPv6.15.20//NONSGML v1.0//EN
CALSCALE:GREGORIAN
METHOD:PUBLISH
X-WR-CALNAME:mimastitan
X-ORIGINAL-URL:https://mimastitan.eu
X-WR-CALDESC:Veranstaltungen für mimastitan
REFRESH-INTERVAL;VALUE=DURATION:PT1H
X-Robots-Tag:noindex
X-PUBLISHED-TTL:PT1H
BEGIN:VTIMEZONE
TZID:UTC
BEGIN:STANDARD
TZOFFSETFROM:+0000
TZOFFSETTO:+0000
TZNAME:UTC
DTSTART:20230101T000000
END:STANDARD
END:VTIMEZONE
BEGIN:VEVENT
DTSTART;TZID=UTC:20240215T180000
DTEND;TZID=UTC:20240215T201500
DTSTAMP:20260420T124656
CREATED:20230617T043945Z
LAST-MODIFIED:20230617T043945Z
UID:2261-1708020000-1708028100@mimastitan.eu
SUMMARY:Interaktiver Online-Vortrag: Nachhaltig anlegen mit ETFs – geht das?
DESCRIPTION:Was sind eigentlich Exchange Traded Funds (ETFs) bzw. Indexfonds? Wie funktionieren sie und was sind die Vor- und Nachteile? Welche ethisch-nachhaltig ausgerichteten ETFs gibt es und was ist hier besonders zu beachten? Der Vortrag führt grundsätzlich in das Thema ein und veranschaulicht das Erklärte anhand von Beispiel-ETFs\, die sich als ethisch oder nachhaltig vermarkten. \nDie Veranstaltung wird in Kooperation mit der VHS Steglitz-Zehlendorf angeboten. Zur Anmeldung geht es hier.
URL:https://mimastitan.eu/termine/interaktiver-online-vortrag-nachhaltig-anlegen-mit-etfs-geht-das-3/
LOCATION:online
END:VEVENT
END:VCALENDAR